BEGIN:VCALENDAR
VERSION:2.0
METHOD:PUBLISH
BEGIN:VEVENT
DTSTART:20260524T190000Z
DTEND:20260524T194000Z
LOCATION:IMAX Victoria - Victoria, BC
UID:20260421T082112Z@mysite.com
DTSTAMP:20260421T082112Z
SUMMARY:IMAX: BBC Earth: Wild Asia
DESCRIPTION:For details, visit https://sales.royalbcmuseum.bc.ca/Selection.aspx?sch=663206
PRIORITY:5
CLASS:PUBLIC
END:VEVENT
END:VCALENDAR