BEGIN:VCALENDAR
VERSION:2.0
METHOD:PUBLISH
BEGIN:VEVENT
DTSTART:20260516T190000Z
DTEND:20260516T194000Z
LOCATION:IMAX Victoria - Victoria, BC
UID:20260419T130800Z@mysite.com
DTSTAMP:20260419T130800Z
SUMMARY:IMAX: BBC Earth: Wild Asia
DESCRIPTION:For details, visit https://sales.royalbcmuseum.bc.ca/Selection.aspx?sch=663190
PRIORITY:5
CLASS:PUBLIC
END:VEVENT
END:VCALENDAR