BEGIN:VCALENDAR
VERSION:2.0
METHOD:PUBLISH
BEGIN:VEVENT
DTSTART:20260512T200000Z
DTEND:20260512T204000Z
LOCATION:IMAX Victoria - Victoria, BC
UID:20260421T082112Z@mysite.com
DTSTAMP:20260421T082112Z
SUMMARY:IMAX: 3D BBC Earth: Wild Asia
DESCRIPTION:For details, visit https://sales.royalbcmuseum.bc.ca/Selection.aspx?sch=663139
PRIORITY:5
CLASS:PUBLIC
END:VEVENT
END:VCALENDAR