BEGIN:VCALENDAR
VERSION:2.0
METHOD:PUBLISH
BEGIN:VEVENT
DTSTART:20260511T200000Z
DTEND:20260511T204000Z
LOCATION:IMAX Victoria - Victoria, BC
UID:20260419T130800Z@mysite.com
DTSTAMP:20260419T130800Z
SUMMARY:IMAX: 3D BBC Earth: Wild Asia
DESCRIPTION:For details, visit https://sales.royalbcmuseum.bc.ca/Selection.aspx?sch=663138
PRIORITY:5
CLASS:PUBLIC
END:VEVENT
END:VCALENDAR