BEGIN:VCALENDAR
VERSION:2.0
METHOD:PUBLISH
BEGIN:VEVENT
DTSTART:20260428T210000Z
DTEND:20260428T213800Z
LOCATION:IMAX Victoria - Victoria, BC
UID:20260424T143439Z@mysite.com
DTSTAMP:20260424T143439Z
SUMMARY:IMAX: 3D Shark Kingdom
DESCRIPTION:For details, visit https://sales.royalbcmuseum.bc.ca/Selection.aspx?sch=663030
PRIORITY:5
CLASS:PUBLIC
END:VEVENT
END:VCALENDAR