BEGIN:VCALENDAR
VERSION:2.0
METHOD:PUBLISH
BEGIN:VEVENT
DTSTART:20260508T200000Z
DTEND:20260508T204000Z
LOCATION:Exhibitions - Victoria, BC
UID:20260419T142224Z@mysite.com
DTSTAMP:20260419T142224Z
SUMMARY:IMAX: 3D BBC Earth: Wild Asia
DESCRIPTION:For details, visit https://sales.royalbcmuseum.bc.ca/Selection.aspx?sch=663026
PRIORITY:5
CLASS:PUBLIC
END:VEVENT
END:VCALENDAR