BEGIN:VCALENDAR
VERSION:2.0
METHOD:PUBLISH
BEGIN:VEVENT
DTSTART:20260507T200000Z
DTEND:20260507T204000Z
LOCATION:Museum Precinct - Victoria, BC
UID:20260419T130850Z@mysite.com
DTSTAMP:20260419T130850Z
SUMMARY:IMAX: 3D BBC Earth: Wild Asia
DESCRIPTION:For details, visit https://sales.royalbcmuseum.bc.ca/Selection.aspx?sch=663025
PRIORITY:5
CLASS:PUBLIC
END:VEVENT
END:VCALENDAR