BEGIN:VCALENDAR
VERSION:2.0
METHOD:PUBLISH
BEGIN:VEVENT
DTSTART:20260429T220000Z
DTEND:20260429T224200Z
LOCATION:IMAX Victoria - Victoria, BC
UID:20260425T172550Z@mysite.com
DTSTAMP:20260425T172550Z
SUMMARY:IMAX: Horse Power
DESCRIPTION:For details, visit https://sales.royalbcmuseum.bc.ca/Selection.aspx?sch=662978
PRIORITY:5
CLASS:PUBLIC
END:VEVENT
END:VCALENDAR