BEGIN:VCALENDAR
VERSION:2.0
METHOD:PUBLISH
BEGIN:VEVENT
DTSTART:20260427T170000Z
DTEND:20260427T174100Z
LOCATION:Museum Precinct - Victoria, BC
UID:20260424T142530Z@mysite.com
DTSTAMP:20260424T142530Z
SUMMARY:IMAX: Great Bear Rainforest
DESCRIPTION:For details, visit https://sales.royalbcmuseum.bc.ca/Selection.aspx?sch=662799
PRIORITY:5
CLASS:PUBLIC
END:VEVENT
END:VCALENDAR