BEGIN:VCALENDAR
VERSION:2.0
METHOD:PUBLISH
BEGIN:VEVENT
DTSTART:20260523T220000Z
DTEND:20260523T224000Z
LOCATION:Museum Precinct - Victoria, BC
UID:20260419T130856Z@mysite.com
DTSTAMP:20260419T130856Z
SUMMARY:IMAX: BBC Earth: Wild Asia
DESCRIPTION:For details, visit https://sales.royalbcmuseum.bc.ca/Selection.aspx?sch=663205
PRIORITY:5
CLASS:PUBLIC
END:VEVENT
END:VCALENDAR