BEGIN:VCALENDAR
VERSION:2.0
METHOD:PUBLISH
BEGIN:VEVENT
DTSTART:20260429T000000Z
DTEND:20260429T003900Z
LOCATION:IMAX Victoria - Victoria, BC
UID:20260424T143644Z@mysite.com
DTSTAMP:20260424T143644Z
SUMMARY:IMAX: 3D Butterfly Journey
DESCRIPTION:For details, visit https://sales.royalbcmuseum.bc.ca/Selection.aspx?sch=663044
PRIORITY:5
CLASS:PUBLIC
END:VEVENT
END:VCALENDAR