BEGIN:VCALENDAR
VERSION:2.0
METHOD:PUBLISH
BEGIN:VEVENT
DTSTART:20260430T010000Z
DTEND:20260430T013800Z
LOCATION:IMAX Victoria - Victoria, BC
UID:20260425T172428Z@mysite.com
DTSTAMP:20260425T172428Z
SUMMARY:IMAX: Shark Kingdom
DESCRIPTION:For details, visit https://sales.royalbcmuseum.bc.ca/Selection.aspx?sch=663003
PRIORITY:5
CLASS:PUBLIC
END:VEVENT
END:VCALENDAR