BEGIN:VCALENDAR
VERSION:2.0
METHOD:PUBLISH
BEGIN:VEVENT
DTSTART:20260429T010000Z
DTEND:20260429T013800Z
LOCATION:IMAX Victoria - Victoria, BC
UID:20260424T143624Z@mysite.com
DTSTAMP:20260424T143624Z
SUMMARY:IMAX: Shark Kingdom
DESCRIPTION:For details, visit https://sales.royalbcmuseum.bc.ca/Selection.aspx?sch=663002
PRIORITY:5
CLASS:PUBLIC
END:VEVENT
END:VCALENDAR