BEGIN:VCALENDAR
VERSION:2.0
METHOD:PUBLISH
BEGIN:VEVENT
DTSTART:20260428T190000Z
DTEND:20260428T194200Z
LOCATION:IMAX Victoria - Victoria, BC
UID:20260424T142618Z@mysite.com
DTSTAMP:20260424T142618Z
SUMMARY:IMAX: Horse Power
DESCRIPTION:For details, visit https://sales.royalbcmuseum.bc.ca/Selection.aspx?sch=662975
PRIORITY:5
CLASS:PUBLIC
END:VEVENT
END:VCALENDAR