BEGIN:VCALENDAR
VERSION:2.0
METHOD:PUBLISH
BEGIN:VEVENT
DTSTART:20260428T180000Z
DTEND:20260428T183900Z
LOCATION:IMAX Victoria - Victoria, BC
UID:20260424T144250Z@mysite.com
DTSTAMP:20260424T144250Z
SUMMARY:IMAX: Butterfly Journey
DESCRIPTION:For details, visit https://sales.royalbcmuseum.bc.ca/Selection.aspx?sch=662960
PRIORITY:5
CLASS:PUBLIC
END:VEVENT
END:VCALENDAR