BEGIN:VCALENDAR
VERSION:2.0
METHOD:PUBLISH
BEGIN:VEVENT
DTSTART:20260427T190000Z
DTEND:20260427T194200Z
LOCATION:IMAX Victoria - Victoria, BC
UID:20260423T153504Z@mysite.com
DTSTAMP:20260423T153504Z
SUMMARY:IMAX: Horse Power
DESCRIPTION:For details, visit https://sales.royalbcmuseum.bc.ca/Selection.aspx?sch=662973
PRIORITY:5
CLASS:PUBLIC
END:VEVENT
END:VCALENDAR