BEGIN:VCALENDAR
VERSION:2.0
METHOD:PUBLISH
BEGIN:VEVENT
DTSTART:20260427T180000Z
DTEND:20260427T183900Z
LOCATION:Museum Precinct - Victoria, BC
UID:20260423T152322Z@mysite.com
DTSTAMP:20260423T152322Z
SUMMARY:IMAX: Butterfly Journey
DESCRIPTION:For details, visit https://sales.royalbcmuseum.bc.ca/Selection.aspx?sch=662959
PRIORITY:5
CLASS:PUBLIC
END:VEVENT
END:VCALENDAR