BEGIN:VCALENDAR
VERSION:2.0
METHOD:PUBLISH
BEGIN:VEVENT
DTSTART:20260524T160000Z
DTEND:20260524T173000Z
LOCATION:RBCM Venue Rental Spaces - Victoria, BC
UID:20260425T150103Z@mysite.com
DTSTAMP:20260425T150103Z
SUMMARY:Instrument Petting Zoo
DESCRIPTION:For details, visit https://sales.royalbcmuseum.bc.ca/Selection.aspx?sch=663328
PRIORITY:5
CLASS:PUBLIC
END:VEVENT
END:VCALENDAR