BEGIN:VCALENDAR
VERSION:2.0
METHOD:PUBLISH
BEGIN:VEVENT
DTSTART:20260428T000000Z
DTEND:20260428T003900Z
LOCATION:Museum Precinct - Victoria, BC
UID:20260423T152313Z@mysite.com
DTSTAMP:20260423T152313Z
SUMMARY:IMAX: 3D Butterfly Journey
DESCRIPTION:For details, visit https://sales.royalbcmuseum.bc.ca/Selection.aspx?sch=663043
PRIORITY:5
CLASS:PUBLIC
END:VEVENT
END:VCALENDAR