BEGIN:VCALENDAR
VERSION:2.0
METHOD:PUBLISH
BEGIN:VEVENT
DTSTART:20260428T010000Z
DTEND:20260428T013800Z
LOCATION:IMAX Victoria - Victoria, BC
UID:20260423T153555Z@mysite.com
DTSTAMP:20260423T153555Z
SUMMARY:IMAX: Shark Kingdom
DESCRIPTION:For details, visit https://sales.royalbcmuseum.bc.ca/Selection.aspx?sch=663001
PRIORITY:5
CLASS:PUBLIC
END:VEVENT
END:VCALENDAR