BEGIN:VCALENDAR
VERSION:2.0
METHOD:PUBLISH
BEGIN:VEVENT
DTSTART:20260427T220000Z
DTEND:20260427T224200Z
LOCATION:IMAX Victoria - Victoria, BC
UID:20260423T153438Z@mysite.com
DTSTAMP:20260423T153438Z
SUMMARY:IMAX: Horse Power
DESCRIPTION:For details, visit https://sales.royalbcmuseum.bc.ca/Selection.aspx?sch=662974
PRIORITY:5
CLASS:PUBLIC
END:VEVENT
END:VCALENDAR